BEGIN:VCALENDAR
VERSION:2.0
PRODID: -//CMS 5.0 //NONSGML //DE
BEGIN:VEVENT
SUMMARY:Gottesdienst für Jugendliche mit Evangelist Matthias Heinz
DESCRIPTION:\n\nhttps://bezirk-gotha.nak-nordost.de/db/598324
UID:598324@bezirk-gotha.nak-nordost.de
LOCATION:
CATEGORIES:Kirchenbezirk Gotha,Kirchenbezirk Gotha (Alle Gemeinden)
X-ORGANIZER:
STATUS:CONFIRMED
CLASS:PUBLIC
DTSTART:20260510T080000Z
DTEND:20260510T080000Z
DTSTAMP:20260423T145610Z
CREATED:20260404T073034Z
LAST-MODIFIED:20260404T073139Z
BEGIN:VALARM
UID:90EA417E-3F24-11F1-BC96-9A6B70372A87
TRIGGER:-PT60M
ACTION:DISPLAY
DESCRIPTION:SUMMARY:Gottesdienst für Jugendliche mit Evangelist Matthias Heinz
END:VALARM
END:VEVENT
END:VCALENDAR
