BEGIN:VCALENDAR
VERSION:2.0
PRODID: -//CMS 5.0 //NONSGML //DE
BEGIN:VEVENT
SUMMARY:Einstudierprobe Zentralchor - Requiem op. 48 von Gabriel Fauré 
 etc.
DESCRIPTION:\n\nhttps://bezirk-gotha.nak-nordost.de/db/547357
UID:547357@bezirk-gotha.nak-nordost.de
LOCATION:Roswitha Dominic
CATEGORIES:Apostelbereich Mitte-Süd (alle Bezirke),Apostelbereich Süd (alle Bezirke)
X-ORGANIZER:
STATUS:CONFIRMED
CLASS:PUBLIC
DTSTART:20260425T080000Z
DTEND:20260425T150000Z
DTSTAMP:20260423T143818Z
CREATED:20251012T053610Z
LAST-MODIFIED:20251015T135707Z
BEGIN:VALARM
UID:11FF845C-3F22-11F1-A405-9E6670372A87
TRIGGER:-PT60M
ACTION:DISPLAY
DESCRIPTION:SUMMARY:Einstudierprobe Zentralchor - Requiem op. 48 von Gabriel Fauré 
 etc.
END:VALARM
END:VEVENT
END:VCALENDAR
