BEGIN:VCALENDAR
VERSION:2.0
PRODID: -//CMS 5.0 //NONSGML //DE
BEGIN:VEVENT
SUMMARY:Einstudierprobe Zentralorchester - Requiem op. 48 von Gabriel Fa
 uré etc.
DESCRIPTION:\n\nhttps://bezirk-gotha.nak-nordost.de/db/547333
UID:547333@bezirk-gotha.nak-nordost.de
LOCATION:Jürgen Gerisch
CATEGORIES:
X-ORGANIZER:
STATUS:CONFIRMED
CLASS:PUBLIC
DTSTART:20260501T080000Z
DTEND:20260501T160000Z
DTSTAMP:20260423T143830Z
CREATED:20251012T053337Z
LAST-MODIFIED:20251015T135733Z
BEGIN:VALARM
UID:18DE78F0-3F22-11F1-A5D5-3B6B70372A87
TRIGGER:-PT60M
ACTION:DISPLAY
DESCRIPTION:SUMMARY:Einstudierprobe Zentralorchester - Requiem op. 48 von Gabriel Fa
 uré etc.
END:VALARM
END:VEVENT
END:VCALENDAR
